BEGIN:VCALENDAR
VERSION:2.0
PRODID:-//Sabre//Sabre VObject 4.5.8//EN
CALSCALE:GREGORIAN
BEGIN:VEVENT
UID:sabre-vobject-96498b03-d206-4470-bd18-9def1627a462
DTSTAMP:20260422T095116Z
SUMMARY:Eucharistiefeier
DESCRIPTION:https://pfarreien-bistum-augsburg.df-preview.de/eucharistiefeie
 r_id1743606
DTSTART;TZID=Europe/Berlin:20260426T090000
DURATION:PT30M
LOCATION:Christkönig
END:VEVENT
END:VCALENDAR
