BEGIN:VCALENDAR
VERSION:2.0
PRODID:-//Sabre//Sabre VObject 4.5.8//EN
CALSCALE:GREGORIAN
BEGIN:VEVENT
UID:sabre-vobject-9fb2f069-428c-4f06-a59e-0a3071461a56
DTSTAMP:20260420T084117Z
SUMMARY:- 10.15 Uhr Krabbelgruppe im Saal HSH
DESCRIPTION:https://pfarreien-bistum-augsburg.df-preview.de/10-15-uhr-krabb
 elgruppe-im-saal-hsh_id1743600
DTSTART;TZID=Europe/Berlin:20260421T090000
DURATION:PT30M
LOCATION:St. Johannes Baptist
END:VEVENT
END:VCALENDAR
