BEGIN:VCALENDAR
VERSION:2.0
PRODID:-//Sabre//Sabre VObject 4.5.8//EN
CALSCALE:GREGORIAN
BEGIN:VEVENT
UID:sabre-vobject-03ac1d71-2337-4016-a18e-d3c6ffcab6de
DTSTAMP:20260422T210220Z
SUMMARY:Georgi-Ritt mit Pferdesegnung
DESCRIPTION:https://pfarreien-bistum-augsburg.df-preview.de/georgi-ritt-mit
 -pferdesegnung_id1743589
DTSTART;TZID=Europe/Berlin:20260426T133000
DURATION:PT30M
LOCATION:Kuratie Maria Himmelfahrt\, Nantesbuch 1\, 82377 Nantesbuch
END:VEVENT
END:VCALENDAR
