BEGIN:VCALENDAR
VERSION:2.0
PRODID:-//Sabre//Sabre VObject 4.5.8//EN
CALSCALE:GREGORIAN
BEGIN:VEVENT
UID:sabre-vobject-8178c2b0-2f74-4e4e-bc77-d78ce0cedebb
DTSTAMP:20260423T015402Z
SUMMARY:Dankandacht der Erstkommunionkinder
DESCRIPTION:https://pfarreien-bistum-augsburg.df-preview.de/dankandacht-der
 -erstkommunionkinder_id1743578
DTSTART;TZID=Europe/Berlin:20260426T173000
DURATION:PT30M
LOCATION:Christkönig
END:VEVENT
END:VCALENDAR
