BEGIN:VCALENDAR
VERSION:2.0
PRODID:-//Sabre//Sabre VObject 4.5.8//EN
CALSCALE:GREGORIAN
BEGIN:VEVENT
UID:sabre-vobject-aa9e5615-5d7f-434a-85c8-4497545b1da6
DTSTAMP:20260422T175602Z
SUMMARY:Kinder-Wort-Gottes-Feier
DESCRIPTION:https://pfarreien-bistum-augsburg.df-preview.de/kinder-wort-got
 tes-feier_id1743548
DTSTART;TZID=Europe/Berlin:20260426T103000
DURATION:PT30M
LOCATION:Christkönig
END:VEVENT
END:VCALENDAR
