BEGIN:VCALENDAR
VERSION:2.0
PRODID:-//Sabre//Sabre VObject 4.5.8//EN
CALSCALE:GREGORIAN
BEGIN:VEVENT
UID:sabre-vobject-17903e51-7a5c-4a5d-8282-6389bd6ca7f1
DTSTAMP:20260421T121230Z
SUMMARY:Hl. Messopfer
DESCRIPTION:https://pfarreien-bistum-augsburg.df-preview.de/hl-messopfer_id
 1743506
DTSTART;TZID=Europe/Berlin:20260421T073000
DURATION:PT30M
LOCATION:Wallfahrtsdirektion Mariä Schmerzen
END:VEVENT
END:VCALENDAR
