BEGIN:VCALENDAR
VERSION:2.0
PRODID:-//Sabre//Sabre VObject 4.5.8//EN
CALSCALE:GREGORIAN
BEGIN:VEVENT
UID:sabre-vobject-ef0d426c-ed15-4385-99e0-132814a864e4
DTSTAMP:20260422T212147Z
SUMMARY:Dankandacht Erstkommunion
DESCRIPTION:https://pfarreien-bistum-augsburg.df-preview.de/dankandacht-ers
 tkommunion_id1743478
DTSTART;TZID=Europe/Berlin:20260419T180000
DURATION:PT30M
LOCATION:St. Martin
END:VEVENT
END:VCALENDAR
