BEGIN:VCALENDAR
VERSION:2.0
PRODID:-//Sabre//Sabre VObject 4.5.8//EN
CALSCALE:GREGORIAN
BEGIN:VEVENT
UID:sabre-vobject-2f02e4d9-c49a-4b59-adbd-9e8029e3eec8
DTSTAMP:20260421T110033Z
SUMMARY:Pilgermesse in den Anliegen der Pilger\;
DESCRIPTION:https://pfarreien-bistum-augsburg.df-preview.de/pilgermesse-in-
 den-anliegen-der-pilger_id1743450
DTSTART;TZID=Europe/Berlin:20260421T101500
DURATION:PT30M
LOCATION:Wallfahrtsdirektion Mariä Schmerzen
END:VEVENT
END:VCALENDAR
