BEGIN:VCALENDAR
VERSION:2.0
PRODID:-//Sabre//Sabre VObject 4.5.8//EN
CALSCALE:GREGORIAN
BEGIN:VEVENT
UID:sabre-vobject-232aa52b-7918-4a3b-9f36-3c75d98ce18c
DTSTAMP:20260422T165334Z
SUMMARY:Rosenkranz für die Kranken und Sterbenden der PG
DESCRIPTION:https://pfarreien-bistum-augsburg.df-preview.de/rosenkranz-fuer
 -die-kranken-und-sterbenden-der-pg_id1743441
DTSTART;TZID=Europe/Berlin:20260420T170000
DURATION:PT30M
LOCATION:Mariä Himmelfahrt
END:VEVENT
END:VCALENDAR
