BEGIN:VCALENDAR
VERSION:2.0
PRODID:-//Sabre//Sabre VObject 4.5.8//EN
CALSCALE:GREGORIAN
BEGIN:VEVENT
UID:sabre-vobject-0fbf5523-c851-4af7-85a3-6deaefa90473
DTSTAMP:20260421T142846Z
SUMMARY:Rosenkranz
DESCRIPTION:https://pfarreien-bistum-augsburg.df-preview.de/rosenkranz_id17
 43367
DTSTART;TZID=Europe/Berlin:20260421T184000
DURATION:PT30M
LOCATION:Wallfahrtsdirektion Mariä Schmerzen
END:VEVENT
END:VCALENDAR
