BEGIN:VCALENDAR
VERSION:2.0
PRODID:-//Sabre//Sabre VObject 4.5.8//EN
CALSCALE:GREGORIAN
BEGIN:VEVENT
UID:sabre-vobject-b579600b-2760-4d68-a433-38724631ed45
DTSTAMP:20260421T205502Z
SUMMARY:Reitenbuch: Abendmesse
DESCRIPTION:https://pfarreien-bistum-augsburg.df-preview.de/reitenbuch-aben
 dmesse_id1743355
DTSTART;TZID=Europe/Berlin:20260424T190000
DURATION:PT30M
LOCATION:St. Pankratius
END:VEVENT
END:VCALENDAR
