BEGIN:VCALENDAR
VERSION:2.0
PRODID:-//Sabre//Sabre VObject 4.5.8//EN
CALSCALE:GREGORIAN
BEGIN:VEVENT
UID:sabre-vobject-c9585f20-ec0b-423d-b487-78d339deddfc
DTSTAMP:20260422T141619Z
SUMMARY:Hl. Messe
DESCRIPTION:https://pfarreien-bistum-augsburg.df-preview.de/hl-messe_id1743
 270
DTSTART;TZID=Europe/Berlin:20260429T173000
DURATION:PT30M
LOCATION:St. Alexander
END:VEVENT
END:VCALENDAR
