BEGIN:VCALENDAR
VERSION:2.0
PRODID:-//Sabre//Sabre VObject 4.5.8//EN
CALSCALE:GREGORIAN
BEGIN:VEVENT
UID:sabre-vobject-bdede32b-6c99-4ca6-a9cd-275aa2e2d487
DTSTAMP:20260423T223536Z
SUMMARY:Bittgang nach Bannacker
DESCRIPTION:https://pfarreien-bistum-augsburg.df-preview.de/bittgang-nach-b
 annacker_id1743213
DTSTART;TZID=Europe/Berlin:20260511T180000
DURATION:PT30M
LOCATION:St. Remigius
END:VEVENT
END:VCALENDAR
