BEGIN:VCALENDAR
VERSION:2.0
PRODID:-//Sabre//Sabre VObject 4.5.8//EN
CALSCALE:GREGORIAN
BEGIN:VEVENT
UID:sabre-vobject-a6817711-3a06-4f22-be98-e766d2e2ab3a
DTSTAMP:20260421T042319Z
SUMMARY:Eucharistische Anbetung (bis 12.00 Uhr)
DESCRIPTION:https://pfarreien-bistum-augsburg.df-preview.de/eucharistische-
 anbetung-bis-12-00-uhr_id1742965
DTSTART;TZID=Europe/Berlin:20260421T083000
DURATION:PT30M
LOCATION:St. Blasius
END:VEVENT
END:VCALENDAR
