BEGIN:VCALENDAR
VERSION:2.0
PRODID:-//Sabre//Sabre VObject 4.5.8//EN
CALSCALE:GREGORIAN
BEGIN:VEVENT
UID:sabre-vobject-bce8b284-982a-471d-aacd-371ac288c4bf
DTSTAMP:20260421T025818Z
SUMMARY:Rosenkranz
DESCRIPTION:https://pfarreien-bistum-augsburg.df-preview.de/rosenkranz_id17
 42963
DTSTART;TZID=Europe/Berlin:20260421T073000
DURATION:PT30M
LOCATION:St. Blasius
END:VEVENT
END:VCALENDAR
