BEGIN:VCALENDAR
VERSION:2.0
PRODID:-//Sabre//Sabre VObject 4.5.8//EN
CALSCALE:GREGORIAN
BEGIN:VEVENT
UID:sabre-vobject-04345c22-ff80-49dc-bb86-a0551df88f7e
DTSTAMP:20260421T104218Z
SUMMARY:Hl. Messe mit Erstkommunion
DESCRIPTION:https://pfarreien-bistum-augsburg.df-preview.de/hl-messe-mit-er
 stkommunion_id1742938
DTSTART;TZID=Europe/Berlin:20260426T103000
DURATION:PT30M
LOCATION:St. Martin
END:VEVENT
END:VCALENDAR
