BEGIN:VCALENDAR
VERSION:2.0
PRODID:-//Sabre//Sabre VObject 4.5.8//EN
CALSCALE:GREGORIAN
BEGIN:VEVENT
UID:sabre-vobject-f8e3110c-c90c-45ce-9ed7-8ddcbdfefe30
DTSTAMP:20260421T091411Z
SUMMARY:Aufstellung zum Kirchenzug
DESCRIPTION:https://pfarreien-bistum-augsburg.df-preview.de/aufstellung-zum
 -kirchenzug_id1742937
DTSTART;TZID=Europe/Berlin:20260426T101500
DURATION:PT30M
LOCATION:St. Martin
END:VEVENT
END:VCALENDAR
