BEGIN:VCALENDAR
VERSION:2.0
PRODID:-//Sabre//Sabre VObject 4.5.8//EN
CALSCALE:GREGORIAN
BEGIN:VEVENT
UID:sabre-vobject-1e37c95b-8116-4f7f-911c-4207b1da116c
DTSTAMP:20260424T025844Z
SUMMARY:Schwesternkapelle: Rosenkranz und Gebet zum Barmherzigen Jesus
DESCRIPTION:https://pfarreien-bistum-augsburg.df-preview.de/schwesternkapel
 le-rosenkranz-und-gebet-zum-barmherzigen-jesus_id1742912
DTSTART;TZID=Europe/Berlin:20260424T190000
DURATION:PT30M
LOCATION:St. Blasius
END:VEVENT
END:VCALENDAR
