BEGIN:VCALENDAR
VERSION:2.0
PRODID:-//Sabre//Sabre VObject 4.5.8//EN
CALSCALE:GREGORIAN
BEGIN:VEVENT
UID:sabre-vobject-057fbfe0-f308-45e3-9897-75e7235b10bd
DTSTAMP:20260421T062053Z
SUMMARY:Abendgebet in der Osterzeit in der Pfarrkirche
DESCRIPTION:https://pfarreien-bistum-augsburg.df-preview.de/abendgebet-in-d
 er-osterzeit-in-der-pfarrkirche_id1742744
DTSTART;TZID=Europe/Berlin:20260421T193000
DURATION:PT30M
LOCATION:St. Pankratius
END:VEVENT
END:VCALENDAR
