BEGIN:VCALENDAR
VERSION:2.0
PRODID:-//Sabre//Sabre VObject 4.5.8//EN
CALSCALE:GREGORIAN
BEGIN:VEVENT
UID:sabre-vobject-44671cf5-601a-4e2b-9dfc-c9f19fa5b29c
DTSTAMP:20260421T060412Z
SUMMARY:Maiandacht und Abendmesse in Asbach
DESCRIPTION:https://pfarreien-bistum-augsburg.df-preview.de/maiandacht-und-
 abendmesse-in-asbach_id1742673
DTSTART;TZID=Europe/Berlin:20260505T190000
DURATION:PT30M
LOCATION:St. Peter und Paul
END:VEVENT
END:VCALENDAR
