BEGIN:VCALENDAR
VERSION:2.0
PRODID:-//Sabre//Sabre VObject 4.5.8//EN
CALSCALE:GREGORIAN
BEGIN:VEVENT
UID:sabre-vobject-086b52c1-4358-4f5f-b394-f7bf8ea1af45
DTSTAMP:20260420T120017Z
SUMMARY:Eucharistiefeier in polnischer Sprache
DESCRIPTION:https://pfarreien-bistum-augsburg.df-preview.de/eucharistiefeie
 r-in-polnischer-sprache_id1742618
DTSTART;TZID=Europe/Berlin:20260426T130000
DURATION:PT30M
LOCATION:St. Martin
END:VEVENT
END:VCALENDAR
