BEGIN:VCALENDAR
VERSION:2.0
PRODID:-//Sabre//Sabre VObject 4.5.8//EN
CALSCALE:GREGORIAN
BEGIN:VEVENT
UID:sabre-vobject-04d5eec3-1412-461e-a1ea-14d4391b93cd
DTSTAMP:20260420T130613Z
SUMMARY:Vesper (Abendgebet der Kirche)
DESCRIPTION:https://pfarreien-bistum-augsburg.df-preview.de/vesper-abendgeb
 et-der-kirche_id1742616
DTSTART;TZID=Europe/Berlin:20260422T184500
DURATION:PT30M
LOCATION:Mariä Himmelfahrt
END:VEVENT
END:VCALENDAR
