BEGIN:VCALENDAR
VERSION:2.0
PRODID:-//Sabre//Sabre VObject 4.5.8//EN
CALSCALE:GREGORIAN
BEGIN:VEVENT
UID:sabre-vobject-465d0609-2775-4fc4-8541-ddc6b72bab66
DTSTAMP:20260422T001330Z
SUMMARY:Hl. Messe  anschließend Eucharistische Anbetung und Nachtanbetung
DESCRIPTION:https://pfarreien-bistum-augsburg.df-preview.de/hl-messe-anschl
 iessend-eucharistische-anbetung-und-nachtanbetung_id1742600
DTSTART;TZID=Europe/Berlin:20260424T191500
DURATION:PT30M
LOCATION:St. Anna
END:VEVENT
END:VCALENDAR
