BEGIN:VCALENDAR
VERSION:2.0
PRODID:-//Sabre//Sabre VObject 4.5.8//EN
CALSCALE:GREGORIAN
BEGIN:VEVENT
UID:sabre-vobject-e4800f3a-46c2-4395-a028-0e6aa8cedb96
DTSTAMP:20260421T192119Z
SUMMARY:Dankandacht der Erstkommunionkinder
DESCRIPTION:https://pfarreien-bistum-augsburg.df-preview.de/dankandacht-der
 -erstkommunionkinder_id1742593
DTSTART;TZID=Europe/Berlin:20260419T191500
DURATION:PT30M
LOCATION:St. Michael
END:VEVENT
END:VCALENDAR
