BEGIN:VCALENDAR
VERSION:2.0
PRODID:-//Sabre//Sabre VObject 4.5.8//EN
CALSCALE:GREGORIAN
BEGIN:VEVENT
UID:sabre-vobject-ae951c1c-fd15-4cea-82c1-3fd8c782d936
DTSTAMP:20260421T211811Z
SUMMARY:Eucharistische Anbetung (bis 20.00 Uhr)\, ab 18.00 Rosenkranzgebet 
 für den Frieden
DESCRIPTION:https://pfarreien-bistum-augsburg.df-preview.de/eucharistische-
 anbetung-bis-20-00-uhr-ab-18-00-rosenkranzgebet-fuer-den-frieden_id1742580
DTSTART;TZID=Europe/Berlin:20260422T150000
DURATION:PT30M
LOCATION:St. Mang
END:VEVENT
END:VCALENDAR
