BEGIN:VCALENDAR
VERSION:2.0
PRODID:-//Sabre//Sabre VObject 4.5.8//EN
CALSCALE:GREGORIAN
BEGIN:VEVENT
UID:sabre-vobject-97033538-b95e-49b9-96d4-26cb62253a9d
DTSTAMP:20260421T013422Z
SUMMARY:Hl. Messe
DESCRIPTION:https://pfarreien-bistum-augsburg.df-preview.de/hl-messe_id1742
 568
DTSTART;TZID=Europe/Berlin:20260419T100000
DURATION:PT30M
LOCATION:St. Agatha
END:VEVENT
END:VCALENDAR
