BEGIN:VCALENDAR
VERSION:2.0
PRODID:-//Sabre//Sabre VObject 4.5.8//EN
CALSCALE:GREGORIAN
BEGIN:VEVENT
UID:sabre-vobject-eff9be5c-d74a-4663-af2f-95ecac926d02
DTSTAMP:20260421T103515Z
SUMMARY:Rosenkranz
DESCRIPTION:https://pfarreien-bistum-augsburg.df-preview.de/rosenkranz_id17
 42547
DTSTART;TZID=Europe/Berlin:20260419T081500
DURATION:PT30M
LOCATION:St. Nikolaus
END:VEVENT
END:VCALENDAR
