BEGIN:VCALENDAR
VERSION:2.0
PRODID:-//Sabre//Sabre VObject 4.5.8//EN
CALSCALE:GREGORIAN
BEGIN:VEVENT
UID:sabre-vobject-2a339839-e9d8-491c-b690-7a1b98bc76ea
DTSTAMP:20260420T180605Z
SUMMARY:Heilige Messe im Altenheim
DESCRIPTION:https://pfarreien-bistum-augsburg.df-preview.de/heilige-messe-i
 m-altenheim_id1742543
DTSTART;TZID=Europe/Berlin:20260421T093000
DURATION:PT30M
LOCATION:St. Margareta
END:VEVENT
END:VCALENDAR
