BEGIN:VCALENDAR
VERSION:2.0
PRODID:-//Sabre//Sabre VObject 4.5.8//EN
CALSCALE:GREGORIAN
BEGIN:VEVENT
UID:sabre-vobject-5549ced7-347e-41b7-996d-80736e435050
DTSTAMP:20260422T034730Z
SUMMARY:"Frühaufsteher-Gottesdienst" - Heilige Messe im großen Pfarrsaal
DESCRIPTION:https://pfarreien-bistum-augsburg.df-preview.de/gottesdienste/f
 ruehaufsteher-gottesdienst-heilige-messe-im-grossen-pfarrsaal_id1742485
DTSTART;TZID=Europe/Berlin:20260419T080000
DURATION:PT30M
LOCATION:Zu den Acht Seligkeiten
END:VEVENT
END:VCALENDAR
