BEGIN:VCALENDAR
VERSION:2.0
PRODID:-//Sabre//Sabre VObject 4.5.8//EN
CALSCALE:GREGORIAN
BEGIN:VEVENT
UID:sabre-vobject-f513ef88-1ac3-46c3-8a78-fa463a5fed4f
DTSTAMP:20260422T070055Z
SUMMARY:Tauffeier Marius Roth / Pfarrkirche "St. Johannes Baptist"
DESCRIPTION:https://pfarreien-bistum-augsburg.df-preview.de/tauffeier-mariu
 s-roth-pfarrkirche-st-johannes-baptist_id1742424
DTSTART;TZID=Europe/Berlin:20260424T150000
DURATION:PT30M
LOCATION:St. Johannes Baptist
END:VEVENT
END:VCALENDAR
