BEGIN:VCALENDAR
VERSION:2.0
PRODID:-//Sabre//Sabre VObject 4.5.8//EN
CALSCALE:GREGORIAN
BEGIN:VEVENT
UID:sabre-vobject-5a8a7eab-8b1d-48f7-b539-f3f60dd15b4d
DTSTAMP:20260421T223801Z
SUMMARY:Stille Anbetung vor dem Allerheiligsten in der Taufkapelle bis 18 U
 hr
DESCRIPTION:https://pfarreien-bistum-augsburg.df-preview.de/stille-anbetung
 -vor-dem-allerheiligsten-in-der-taufkapelle-bis-18-uhr_id1742334
DTSTART;TZID=Europe/Berlin:20260428T090000
DURATION:PT30M
LOCATION:St. Peter und Paul
END:VEVENT
END:VCALENDAR
