BEGIN:VCALENDAR
VERSION:2.0
PRODID:-//Sabre//Sabre VObject 4.5.8//EN
CALSCALE:GREGORIAN
BEGIN:VEVENT
UID:sabre-vobject-e7d8b6ef-bb75-4d47-b220-184d74e3917f
DTSTAMP:20260420T222900Z
SUMMARY:Festgottesdienst mit Erstkommunion 2. Gruppe  gestaltet von Feuer &
  Flamme
DESCRIPTION:https://pfarreien-bistum-augsburg.df-preview.de/festgottesdiens
 t-mit-erstkommunion-2-gruppe-gestaltet-von-feuer-flamme_id1742332
DTSTART;TZID=Europe/Berlin:20260426T093000
DURATION:PT30M
LOCATION:St. Peter und Paul
END:VEVENT
END:VCALENDAR
