BEGIN:VCALENDAR
VERSION:2.0
PRODID:-//Sabre//Sabre VObject 4.5.8//EN
CALSCALE:GREGORIAN
BEGIN:VEVENT
UID:sabre-vobject-9d02a1fd-0860-4898-946f-e2e54662ca5a
DTSTAMP:20260420T174653Z
SUMMARY:Bittgang von Schindelberg nach Hagspiel zur "Bruder-Klaus"-Kapelle 
 Treffpunkt: Großer Parkplatz Schindelberg (bei Regen nur Hl. Messe in der
  "Bruder-Klaus"-Kapelle in Hagspiel)
DESCRIPTION:https://pfarreien-bistum-augsburg.df-preview.de/bittgang-von-sc
 hindelberg-nach-hagspiel-zur-bruder-klaus-kapelle-treffpunkt-grosser-parkp
 latz-schindelberg-bei-regen-nur-hl-messe-in-der-bruder-klaus-kapelle-in-ha
 gspiel_id1742286
DTSTART;TZID=Europe/Berlin:20260512T180000
DURATION:PT30M
LOCATION:Verklärung Christi
END:VEVENT
END:VCALENDAR
