BEGIN:VCALENDAR
VERSION:2.0
PRODID:-//Sabre//Sabre VObject 4.5.8//EN
CALSCALE:GREGORIAN
BEGIN:VEVENT
UID:sabre-vobject-1f827484-14bc-4da4-bbe3-4ed9e73d3b40
DTSTAMP:20260422T085025Z
SUMMARY:Dankandacht der Erstkommunionkinder\,  musikal. gestaltet von ErTaD
 o Sol
DESCRIPTION:https://pfarreien-bistum-augsburg.df-preview.de/dankandacht-der
 -erstkommunionkinder-musikal-gestaltet-von-ertado-sol_id1742242
DTSTART;TZID=Europe/Berlin:20260419T170000
DURATION:PT30M
LOCATION:St. Peter
END:VEVENT
END:VCALENDAR
