BEGIN:VCALENDAR
VERSION:2.0
PRODID:-//Sabre//Sabre VObject 4.5.8//EN
CALSCALE:GREGORIAN
BEGIN:VEVENT
UID:sabre-vobject-0a162e56-7cc6-4d08-a959-bfcfd5b31086
DTSTAMP:20260421T152554Z
SUMMARY:Frühmesse
DESCRIPTION:https://pfarreien-bistum-augsburg.df-preview.de/fruehmesse_id17
 42222
DTSTART;TZID=Europe/Berlin:20260424T070000
DURATION:PT30M
LOCATION:Mariä Himmelfahrt\, Kirchenweg 6\, 89358 Kammeltal
END:VEVENT
END:VCALENDAR
