BEGIN:VCALENDAR
VERSION:2.0
PRODID:-//Sabre//Sabre VObject 4.5.8//EN
CALSCALE:GREGORIAN
BEGIN:VEVENT
UID:sabre-vobject-0f8bb18f-e919-45ff-ba4c-990f58843d16
DTSTAMP:20260424T182743Z
SUMMARY:Maiandacht in der Pfarrkirche
DESCRIPTION:https://pfarreien-bistum-augsburg.df-preview.de/maiandacht-in-d
 er-pfarrkirche_id1742177
DTSTART;TZID=Europe/Berlin:20260521T183000
DURATION:PT30M
LOCATION:St. Johannes Baptist
END:VEVENT
END:VCALENDAR
