BEGIN:VCALENDAR
VERSION:2.0
PRODID:-//Sabre//Sabre VObject 4.5.8//EN
CALSCALE:GREGORIAN
BEGIN:VEVENT
UID:sabre-vobject-ed3ccd1f-3097-49ea-b050-f318205920f5
DTSTAMP:20260424T213114Z
SUMMARY:Hl. Messe / Kapelle Konstanzer
DESCRIPTION:https://pfarreien-bistum-augsburg.df-preview.de/hl-messe-kapell
 e-konstanzer_id1742169
DTSTART;TZID=Europe/Berlin:20260519T183000
DURATION:PT30M
LOCATION:St. Johannes Baptist
END:VEVENT
END:VCALENDAR
