BEGIN:VCALENDAR
VERSION:2.0
PRODID:-//Sabre//Sabre VObject 4.5.8//EN
CALSCALE:GREGORIAN
BEGIN:VEVENT
UID:sabre-vobject-a8dfd9bc-644b-4cf5-b194-e9f0407fa631
DTSTAMP:20260421T160316Z
SUMMARY:Bittgang von der Pfarrkirche Oberstaufen nach Kalzhofen nur bei gut
 er Witterung
DESCRIPTION:https://pfarreien-bistum-augsburg.df-preview.de/bittgang-von-de
 r-pfarrkirche-oberstaufen-nach-kalzhofen-nur-bei-guter-witterung_id1742125
DTSTART;TZID=Europe/Berlin:20260511T183000
DURATION:PT30M
LOCATION:St. Peter und Paul
END:VEVENT
END:VCALENDAR
