BEGIN:VCALENDAR
VERSION:2.0
PRODID:-//Sabre//Sabre VObject 4.5.8//EN
CALSCALE:GREGORIAN
BEGIN:VEVENT
UID:sabre-vobject-88a45fdc-c7b4-41f7-b78e-7574523fa72e
DTSTAMP:20260422T124839Z
SUMMARY:Taizé-Gebet
DESCRIPTION:https://pfarreien-bistum-augsburg.df-preview.de/taize-gebet_id1
 742107
DTSTART;TZID=Europe/Berlin:20260419T190000
DURATION:PT30M
LOCATION:St. Martin
END:VEVENT
END:VCALENDAR
