BEGIN:VCALENDAR
VERSION:2.0
PRODID:-//Sabre//Sabre VObject 4.5.8//EN
CALSCALE:GREGORIAN
BEGIN:VEVENT
UID:sabre-vobject-29009043-34ec-43bb-a5f8-e4d9c9ecd2a0
DTSTAMP:20260420T205453Z
SUMMARY:Rosenkranz im Anliegen für Kinder und Jugendliche
DESCRIPTION:https://pfarreien-bistum-augsburg.df-preview.de/rosenkranz-im-a
 nliegen-fuer-kinder-und-jugendliche_id1742099
DTSTART;TZID=Europe/Berlin:20260420T080000
DURATION:PT30M
LOCATION:St. Jakobus maj.
END:VEVENT
END:VCALENDAR
