BEGIN:VCALENDAR
VERSION:2.0
PRODID:-//Sabre//Sabre VObject 4.5.8//EN
CALSCALE:GREGORIAN
BEGIN:VEVENT
UID:sabre-vobject-537fb33d-32a1-4e70-9a05-a8454b1f4ad7
DTSTAMP:20260422T133412Z
SUMMARY:in Marbach: Hl. Messe mit Kreuzsegnung
DESCRIPTION:https://pfarreien-bistum-augsburg.df-preview.de/in-marbach-hl-m
 esse-mit-kreuzsegnung_id1742045
DTSTART;TZID=Europe/Berlin:20260422T183000
DURATION:PT30M
LOCATION:St. Johannes Baptist und St. Johannes Evangelist
END:VEVENT
END:VCALENDAR
