BEGIN:VCALENDAR
VERSION:2.0
PRODID:-//Sabre//Sabre VObject 4.5.8//EN
CALSCALE:GREGORIAN
BEGIN:VEVENT
UID:sabre-vobject-60d0bfab-bd62-437c-9236-7031ad7a6206
DTSTAMP:20260423T082512Z
SUMMARY:Anbetung und Rosenkranz
DESCRIPTION:https://pfarreien-bistum-augsburg.df-preview.de/anbetung-und-ro
 senkranz_id1741993
DTSTART;TZID=Europe/Berlin:20260508T181500
DURATION:PT30M
LOCATION:St. Mauritius
END:VEVENT
END:VCALENDAR
