BEGIN:VCALENDAR
VERSION:2.0
PRODID:-//Sabre//Sabre VObject 4.5.8//EN
CALSCALE:GREGORIAN
BEGIN:VEVENT
UID:sabre-vobject-99a9757d-d964-4d12-9c08-9231732d89d5
DTSTAMP:20260424T053051Z
SUMMARY:Hl. Messe in St. Anna
DESCRIPTION:https://pfarreien-bistum-augsburg.df-preview.de/hl-messe-in-st-
 anna_id1741972
DTSTART;TZID=Europe/Berlin:20260424T100000
DURATION:PT30M
LOCATION:St. Stephan
END:VEVENT
END:VCALENDAR
