BEGIN:VCALENDAR
VERSION:2.0
PRODID:-//Sabre//Sabre VObject 4.5.8//EN
CALSCALE:GREGORIAN
BEGIN:VEVENT
UID:sabre-vobject-d23b0ecb-aae9-4afd-98b1-bcadb7454b10
DTSTAMP:20260421T062128Z
SUMMARY:Gebetskreis
DESCRIPTION:https://pfarreien-bistum-augsburg.df-preview.de/gebetskreis_id1
 741922
DTSTART;TZID=Europe/Berlin:20260423T170000
DURATION:PT30M
LOCATION:St. Ulrich
END:VEVENT
END:VCALENDAR
