BEGIN:VCALENDAR
VERSION:2.0
PRODID:-//Sabre//Sabre VObject 4.5.8//EN
CALSCALE:GREGORIAN
BEGIN:VEVENT
UID:sabre-vobject-e3739dba-5f1f-4fcb-b732-2765d78bc2c3
DTSTAMP:20260425T212016Z
SUMMARY:Morgenlob
DESCRIPTION:https://pfarreien-bistum-augsburg.df-preview.de/morgenlob_id174
 1885
DTSTART;TZID=Europe/Berlin:20260502T073000
DURATION:PT30M
LOCATION:Maria Hilf
END:VEVENT
END:VCALENDAR
