BEGIN:VCALENDAR
VERSION:2.0
PRODID:-//Sabre//Sabre VObject 4.5.8//EN
CALSCALE:GREGORIAN
BEGIN:VEVENT
UID:sabre-vobject-95f42029-5408-41b7-a7bf-198255062e2d
DTSTAMP:20260421T031009Z
SUMMARY:Heilige Messe/Eschach
DESCRIPTION:https://pfarreien-bistum-augsburg.df-preview.de/heilige-messe-e
 schach_id1741861
DTSTART;TZID=Europe/Berlin:20260421T190000
DURATION:PT30M
LOCATION:St. Nikolaus
END:VEVENT
END:VCALENDAR
