BEGIN:VCALENDAR
VERSION:2.0
PRODID:-//Sabre//Sabre VObject 4.5.8//EN
CALSCALE:GREGORIAN
BEGIN:VEVENT
UID:sabre-vobject-58899f90-258a-4586-a6e5-6e0fcedbe96a
DTSTAMP:20260424T024114Z
SUMMARY:Vesper und Heilige Messe
DESCRIPTION:https://pfarreien-bistum-augsburg.df-preview.de/vesper-und-heil
 ige-messe_id1741839
DTSTART;TZID=Europe/Berlin:20260428T174500
DURATION:PT30M
LOCATION:St. Joseph
END:VEVENT
END:VCALENDAR
