BEGIN:VCALENDAR
VERSION:2.0
PRODID:-//Sabre//Sabre VObject 4.5.8//EN
CALSCALE:GREGORIAN
BEGIN:VEVENT
UID:sabre-vobject-387f058e-92c3-4bb6-a6fe-ab4342aaab1f
DTSTAMP:20260421T060513Z
SUMMARY:Wallfahrtsmesse mit Krankengebet
DESCRIPTION:https://pfarreien-bistum-augsburg.df-preview.de/wallfahrtsmesse
 -mit-krankengebet_id1741798
DTSTART;TZID=Europe/Berlin:20260422T090000
DURATION:PT30M
LOCATION:Mariä Opferung\, Baumgärtle 4\, 87739 Baumgärtle
END:VEVENT
END:VCALENDAR
