BEGIN:VCALENDAR
VERSION:2.0
PRODID:-//Sabre//Sabre VObject 4.5.8//EN
CALSCALE:GREGORIAN
BEGIN:VEVENT
UID:sabre-vobject-132b9fb8-1ca9-4e5f-8186-3c8d136f8d27
DTSTAMP:20260425T003652Z
SUMMARY:Anbetung/Klosterkirche Kalzhofen
DESCRIPTION:https://pfarreien-bistum-augsburg.df-preview.de/anbetung-kloste
 rkirche-kalzhofen_id1741728
DTSTART;TZID=Europe/Berlin:20260515T183000
DURATION:PT30M
LOCATION:St. Peter und Paul
END:VEVENT
END:VCALENDAR
