BEGIN:VCALENDAR
VERSION:2.0
PRODID:-//Sabre//Sabre VObject 4.5.8//EN
CALSCALE:GREGORIAN
BEGIN:VEVENT
UID:sabre-vobject-a6e03bb3-7446-41df-8300-a0b34105150f
DTSTAMP:20260424T221608Z
SUMMARY:Rosenkranz für den Frieden / Lourdeskapelle entfällt\n
DESCRIPTION:https://pfarreien-bistum-augsburg.df-preview.de/rosenkranz-fuer
 -den-frieden-lourdeskapelle-entfaellt_id1741726
DTSTART;TZID=Europe/Berlin:20260514T000000
DURATION:PT30M
LOCATION:St. Peter und Paul
END:VEVENT
END:VCALENDAR
